BEGIN:VCALENDAR
VERSION:2.0
PRODID:-//FIOE - ECPv6.15.20//NONSGML v1.0//EN
CALSCALE:GREGORIAN
METHOD:PUBLISH
X-WR-CALNAME:FIOE
X-ORIGINAL-URL:https://fioe.pt
X-WR-CALDESC:Eventos para FIOE
REFRESH-INTERVAL;VALUE=DURATION:PT1H
X-Robots-Tag:noindex
X-PUBLISHED-TTL:PT1H
BEGIN:VTIMEZONE
TZID:Europe/Lisbon
BEGIN:DAYLIGHT
TZOFFSETFROM:+0000
TZOFFSETTO:+0100
TZNAME:WEST
DTSTART:20240331T010000
END:DAYLIGHT
BEGIN:STANDARD
TZOFFSETFROM:+0100
TZOFFSETTO:+0000
TZNAME:WET
DTSTART:20241027T010000
END:STANDARD
BEGIN:DAYLIGHT
TZOFFSETFROM:+0000
TZOFFSETTO:+0100
TZNAME:WEST
DTSTART:20250330T010000
END:DAYLIGHT
BEGIN:STANDARD
TZOFFSETFROM:+0100
TZOFFSETTO:+0000
TZNAME:WET
DTSTART:20251026T010000
END:STANDARD
BEGIN:DAYLIGHT
TZOFFSETFROM:+0000
TZOFFSETTO:+0100
TZNAME:WEST
DTSTART:20260329T010000
END:DAYLIGHT
BEGIN:STANDARD
TZOFFSETFROM:+0100
TZOFFSETTO:+0000
TZNAME:WET
DTSTART:20261025T010000
END:STANDARD
END:VTIMEZONE
BEGIN:VEVENT
DTSTART;TZID=Europe/Lisbon:20251109T170000
DTEND;TZID=Europe/Lisbon:20251109T180000
DTSTAMP:20260424T223531
CREATED:20250927T111323Z
LAST-MODIFIED:20251110T121832Z
UID:5869-1762707600-1762711200@fioe.pt
SUMMARY:António Esteireiro - órgão e Nelson Ferreira - violoncelo
DESCRIPTION:
URL:https://fioe.pt/calendario/antonio-esteireio-orgao-e-nelson-ferreira-violoncelo/
LOCATION:Igreja do Espírito Santo\, Largo do Colégio\, 1\, Évora\, 7000-645\, Portugal
CATEGORIES:Concerto
ATTACH;FMTTYPE=image/webp:https://fioe.pt/wp-content/uploads/2025/09/Antonio-Esteireiro-Nelson-Ferreira-comp-1.webp
ORGANIZER;CN="FIOE":MAILTO:info@fioe.pt
END:VEVENT
END:VCALENDAR