BEGIN:VCALENDAR
VERSION:2.0
PRODID:-//FIOE - ECPv6.15.20//NONSGML v1.0//EN
CALSCALE:GREGORIAN
METHOD:PUBLISH
X-WR-CALNAME:FIOE
X-ORIGINAL-URL:https://fioe.pt
X-WR-CALDESC:Eventos para FIOE
REFRESH-INTERVAL;VALUE=DURATION:PT1H
X-Robots-Tag:noindex
X-PUBLISHED-TTL:PT1H
BEGIN:VTIMEZONE
TZID:Europe/Lisbon
BEGIN:DAYLIGHT
TZOFFSETFROM:+0000
TZOFFSETTO:+0100
TZNAME:WEST
DTSTART:20250330T010000
END:DAYLIGHT
BEGIN:STANDARD
TZOFFSETFROM:+0100
TZOFFSETTO:+0000
TZNAME:WET
DTSTART:20251026T010000
END:STANDARD
BEGIN:DAYLIGHT
TZOFFSETFROM:+0000
TZOFFSETTO:+0100
TZNAME:WEST
DTSTART:20260329T010000
END:DAYLIGHT
BEGIN:STANDARD
TZOFFSETFROM:+0100
TZOFFSETTO:+0000
TZNAME:WET
DTSTART:20261025T010000
END:STANDARD
BEGIN:DAYLIGHT
TZOFFSETFROM:+0000
TZOFFSETTO:+0100
TZNAME:WEST
DTSTART:20270328T010000
END:DAYLIGHT
BEGIN:STANDARD
TZOFFSETFROM:+0100
TZOFFSETTO:+0000
TZNAME:WET
DTSTART:20271031T010000
END:STANDARD
END:VTIMEZONE
BEGIN:VEVENT
DTSTART;TZID=Europe/Lisbon:20260301T180000
DTEND;TZID=Europe/Lisbon:20260301T190000
DTSTAMP:20260424T181028
CREATED:20250927T121133Z
LAST-MODIFIED:20260226T114012Z
UID:5874-1772388000-1772391600@fioe.pt
SUMMARY:Javier Artigas e Benantzi Bilbao
DESCRIPTION:
URL:https://fioe.pt/calendario/javier-artigas-e-benantzi-bilbao/
LOCATION:Sé de Évora\, Largo do Marquês de Marialva\, Évora\, 7000-809\, Portugal
CATEGORIES:Concerto,Próximo concerto
ATTACH;FMTTYPE=image/jpeg:https://fioe.pt/wp-content/uploads/2025/09/Javier-Artigas-e-Benantzi-Bilbao-comp.jpg
ORGANIZER;CN="FIOE":MAILTO:info@fioe.pt
END:VEVENT
END:VCALENDAR