BEGIN:VCALENDAR
VERSION:2.0
PRODID:-//FIOE - ECPv6.15.20//NONSGML v1.0//EN
CALSCALE:GREGORIAN
METHOD:PUBLISH
X-WR-CALNAME:FIOE
X-ORIGINAL-URL:https://fioe.pt
X-WR-CALDESC:Eventos para FIOE
REFRESH-INTERVAL;VALUE=DURATION:PT1H
X-Robots-Tag:noindex
X-PUBLISHED-TTL:PT1H
BEGIN:VTIMEZONE
TZID:Europe/Lisbon
BEGIN:DAYLIGHT
TZOFFSETFROM:+0000
TZOFFSETTO:+0100
TZNAME:WEST
DTSTART:20240331T010000
END:DAYLIGHT
BEGIN:STANDARD
TZOFFSETFROM:+0100
TZOFFSETTO:+0000
TZNAME:WET
DTSTART:20241027T010000
END:STANDARD
BEGIN:DAYLIGHT
TZOFFSETFROM:+0000
TZOFFSETTO:+0100
TZNAME:WEST
DTSTART:20250330T010000
END:DAYLIGHT
BEGIN:STANDARD
TZOFFSETFROM:+0100
TZOFFSETTO:+0000
TZNAME:WET
DTSTART:20251026T010000
END:STANDARD
BEGIN:DAYLIGHT
TZOFFSETFROM:+0000
TZOFFSETTO:+0100
TZNAME:WEST
DTSTART:20260329T010000
END:DAYLIGHT
BEGIN:STANDARD
TZOFFSETFROM:+0100
TZOFFSETTO:+0000
TZNAME:WET
DTSTART:20261025T010000
END:STANDARD
END:VTIMEZONE
BEGIN:VEVENT
DTSTART;TZID=Europe/Lisbon:20250309T170000
DTEND;TZID=Europe/Lisbon:20250309T180000
DTSTAMP:20260425T130028
CREATED:20241104T235733Z
LAST-MODIFIED:20250927T214836Z
UID:2219-1741539600-1741543200@fioe.pt
SUMMARY:Tadeu Filipe\, órgão :: David Rodrigues\, bandolim
DESCRIPTION:« Todos Eventos\n 				\n				\n				\n				\n					Este evento já decorreu. \n				\n				\n				\n				\n					\n	Tadeu Filipe\, órgão :: David Rodrigues\, bandolim				\n				\n				\n				\n					\n		\n			9 Março 2025\n\n	\n\n	   |    \n\n\n17h00\n\n		\n\n\n\n	\n	  -  \n\n18h00\n\n\n\n	\n				\n				\n				\n						\n					\n			\n						\n				\n									Excerto								\n				\n					\n		\n				\n			\n						\n				\n					\n	\n	Organizador\n			FIOE	\n\n	\n	\n\n	Telefone:\n			927 041 476	 \n\n\n	\n	E-mail:\n					\n			info@fioe.pt			\n	 \n\n\n\n				\n				\n					\n		\n					\n		\n				\n						\n					\n			\n						\n				\n					\n				\n				\n	\n		Igreja do Espírito Santo	\n	\n	\n\nLargo do Colégio\, 1\n	\n		\n		Évora\,\n\n\n	7000-645\n\n	Portugal\n\n\n\n\n	+ Mapa do Google \n\n\n	\n	Telefone:\n			927 041 476	 \n\n\n\n	\n\n\n\n		\n	\n				\n				\n					\n		\n					\n		\n				\n						\n					\n			\n						\n				\n					\n	\n		\n\n	\n	Adicionar ao calendário	\n		\n	\n\n		\n			\n									\n	Calendário Google\n\n									\n	iCalendário\n\n									\n	Outlook 365\n\n									\n	Outlook Live\n\n							\n		\n\n		\n	\n\n				\n				\n					\n		\n					\n		\n				\n						\n					\n			\n						\n				\n					\n	\n		\n\n				QUATRO ÓRGÃOS :: Paulo Bernardino :: Rui Soares :: João Santos :: Ricardo Toste	\n\n\n		\n	\n		ENSEMBLE RÉGIO
URL:https://fioe.pt/calendario/tadeu-filipe-orgao-david-rodrigues-bandolim/
LOCATION:Igreja do Espírito Santo\, Largo do Colégio\, 1\, Évora\, 7000-645\, Portugal
CATEGORIES:Concerto
ORGANIZER;CN="FIOE":MAILTO:info@fioe.pt
END:VEVENT
END:VCALENDAR